BEGIN:VCALENDAR
VERSION:2.0
PRODID:-//eventon.com NONSGML v1.0//EN
CALSCALE:GREGORIAN
METHOD:PUBLISH
BEGIN:VEVENT
UID:69e624a205b2d
DTSTAMP:20260420T130538Z
DTSTART:20240511T150000Z
DTEND:20240511T220000Z
LOCATION:Brookfield Conference Center 325 S Moorland Rd\,  Brookfield\,  WI 53005
SUMMARY:Dare to Be Aware Fair
DESCRIPTION:At the Dare to Be Aware Fair there will be over 120 exhibitors 
 and 17 free workshops for Awareness\,  Enlightenment\,  Wellness\,  and Suc
 cessful Living Live Life Spiritual Direction will be a vendor again this ye
 ar. Come visit us and all of the other amazing vendors and presenters. This
  is the[..]\nhttps://livelifespiritual.com/events/dare-to-be-aware-fair-2/
URL:https://livelifespiritual.com/events/dare-to-be-aware-fair-2/
END:VEVENT
END:VCALENDAR