BEGIN:VCALENDAR
VERSION:2.0
PRODID:-//eventon.com NONSGML v1.0//EN
CALSCALE:GREGORIAN
METHOD:PUBLISH
BEGIN:VEVENT
UID:69e72cc590776
DTSTAMP:20260421T075237Z
DTSTART:20230415T150000Z
DTEND:20230415T220000Z
LOCATION:Brookfield Conference Center 325 S Moorland Rd\,  Brookfield\,  WI 53005
SUMMARY:Dare to Be Aware Fair
DESCRIPTION:I am so excited to be a part of the Dare to Be Aware Fair!  Th
 is is the premier wellness\,  conscious living\,  and personal growth fair 
 in the Milwaukee area. There is no better place to find all of the resource
 s you need for your spiritual\,  physical\,  and personal development.[..]\
 nhttps://livelifespiritual.com/events/dare-to-be-aware-fair/
URL:https://livelifespiritual.com/events/dare-to-be-aware-fair/
END:VEVENT
END:VCALENDAR