BEGIN:VCALENDAR
VERSION:2.0
PRODID:-//eventon.com NONSGML v1.0//EN
CALSCALE:GREGORIAN
METHOD:PUBLISH
BEGIN:VEVENT
UID:69e72e0508cc6
DTSTAMP:20260421T075757Z
DTSTART:20260613T180000Z
DTEND:20260613T220000Z
LOCATION:Verve Studio 309 W. Clark Street\,  Champaign\,  IL
SUMMARY:Reiki Level 1 Training
DESCRIPTION: Reiki Level 1 Training Saturday\,  June 13\,  2026 1:00 – 5
 :00 pm Verve | 309 W. Clark Street\,  Champaign\,  IL Cost: $150 (includes 
 all course materials\,  manual and certificate) Register here. Space is lim
 ited. Use the calendar function to find June 13th and register there. Reiki
  is a gentle yet[..]\nhttps://livelifespiritual.com/events/reiki-level-1-tr
 aining/
URL:https://livelifespiritual.com/events/reiki-level-1-training/
END:VEVENT
END:VCALENDAR